BEGIN:VCALENDAR
VERSION:2.0
PRODID:-//Asociación de Mexicanos en Grecia - ECPv6.8.3//NONSGML v1.0//EN
CALSCALE:GREGORIAN
METHOD:PUBLISH
X-WR-CALNAME:Asociación de Mexicanos en Grecia
X-ORIGINAL-URL:https://mexicanosengrecia.org
X-WR-CALDESC:Eventos para Asociación de Mexicanos en Grecia
REFRESH-INTERVAL;VALUE=DURATION:PT1H
X-Robots-Tag:noindex
X-PUBLISHED-TTL:PT1H
BEGIN:VTIMEZONE
TZID:UTC
BEGIN:STANDARD
TZOFFSETFROM:+0000
TZOFFSETTO:+0000
TZNAME:UTC
DTSTART:20240101T000000
END:STANDARD
END:VTIMEZONE
BEGIN:VEVENT
DTSTART;TZID=UTC:20241214T180000
DTEND;TZID=UTC:20241214T230000
DTSTAMP:20260422T123942
CREATED:20210913T194411Z
LAST-MODIFIED:20250929T203728Z
UID:1059-1734199200-1734217200@mexicanosengrecia.org
SUMMARY:Posada Navideña
DESCRIPTION:La Asociación de Mexicanos en Grecia\, ASOMEX En colaboración con La Piñata \n\n\n\nLes invita a celebrar una posada mexicana \n\n\n\nSábado 14 de Diciembre a las 18:00 hrs.
URL:https://mexicanosengrecia.org/event/posada-navidena/
LOCATION:La Piñata\, Persefonis 39\, Athens\, 118 54\, Greece
ATTACH;FMTTYPE=image/jpeg:https://mexicanosengrecia.org/wp-content/uploads/2021/09/posada-navidad.jpg
END:VEVENT
END:VCALENDAR